BEGIN:VCALENDAR
VERSION:2.0
PRODID:spatie/icalendar-generator
DESCRIPTION:Events from Maine CITE
X-WR-CALDESC:Events from Maine CITE
REFRESH-INTERVAL;VALUE=DURATION:PT1440M
X-PUBLISHED-TTL:PT1440M
BEGIN:VTIMEZONE
TZID:Etc/GMT+0
BEGIN:STANDARD
DTSTART:20250412T130000Z
TZOFFSETFROM:+0000
TZOFFSETTO:+0000
END:STANDARD
END:VTIMEZONE
BEGIN:VTIMEZONE
TZID:UTC
BEGIN:STANDARD
DTSTART:20250728T210346Z
TZOFFSETFROM:+0000
TZOFFSETTO:+0000
END:STANDARD
END:VTIMEZONE
BEGIN:VEVENT
UID:171-143
DTSTAMP:20260424T210346Z
SUMMARY:Webinar: Creating Accessible Online Content (Part 3)
LOCATION:
ORGANIZER;CN=Sherie Lizzotte:MAILTO:slizzotte@mainecite.org
DTSTART;TZID=Etc/GMT+0:20260107T130000
DTEND;TZID=Etc/GMT+0:20260107T140000
X-ALT-DESC;FMTTYPE=TEXT/HTML:<p>Join us for the final webinar on Creating A
 ccessible Content.  We will share tips for making social media posts acces
 sible to everyone. We will also talk about the Web Content Accessibility G
 uidelines (WCAG).</p>\n
CATEGORIES:General
URL;VALUE=URI:https://mainecite.org/mc-events/webinar-creating-accessible-o
 nline-content-part-3-3/
METHOD:PUBLISH
END:VEVENT
END:VCALENDAR