BEGIN:VCALENDAR
VERSION:2.0
PRODID:spatie/icalendar-generator
DESCRIPTION:Events from Maine CITE
X-WR-CALDESC:Events from Maine CITE
REFRESH-INTERVAL;VALUE=DURATION:PT1440M
X-PUBLISHED-TTL:PT1440M
BEGIN:VTIMEZONE
TZID:Etc/GMT+0
BEGIN:STANDARD
DTSTART:20250627T100000Z
TZOFFSETFROM:+0000
TZOFFSETTO:+0000
END:STANDARD
END:VTIMEZONE
BEGIN:VTIMEZONE
TZID:UTC
BEGIN:STANDARD
DTSTART:20250727T100329Z
TZOFFSETFROM:+0000
TZOFFSETTO:+0000
END:STANDARD
END:VTIMEZONE
BEGIN:VEVENT
UID:187-156
DTSTAMP:20260423T100329Z
SUMMARY:Webinar: Creating Accessible Digital Content and Presentations (Par
 t 2)
LOCATION:
ORGANIZER;CN=Sherie Lizzotte:MAILTO:slizzotte@mainecite.org
DTSTART;TZID=Etc/GMT+0:20260324T100000
DTEND;TZID=Etc/GMT+0:20260324T110000
X-ALT-DESC;FMTTYPE=TEXT/HTML:<p>This webinar builds on the information prov
 ided in Creating Accessible Documents – The Basics (February 18\, 2026).
  It will present principles for creating accessible digital content in pre
 sentations. It will also cover the best practices for using video and audi
 o in presentations. The concepts will be demonstrated using a MacBook Pro.
 </p>\n
CATEGORIES:General
URL;VALUE=URI:https://mainecite.org/mc-events/webinar-creating-accessible-d
 igital-content-and-presentations-part-2-3/
METHOD:PUBLISH
END:VEVENT
END:VCALENDAR