BEGIN:VCALENDAR
VERSION:2.0
PRODID:spatie/icalendar-generator
DESCRIPTION:Events from Maine CITE
X-WR-CALDESC:Events from Maine CITE
REFRESH-INTERVAL;VALUE=DURATION:PT1440M
X-PUBLISHED-TTL:PT1440M
BEGIN:VTIMEZONE
TZID:Etc/GMT+0
BEGIN:STANDARD
DTSTART:20250828T000000Z
TZOFFSETFROM:+0000
TZOFFSETTO:+0000
END:STANDARD
END:VTIMEZONE
BEGIN:VTIMEZONE
TZID:UTC
BEGIN:STANDARD
DTSTART:20250723T143312Z
TZOFFSETFROM:+0000
TZOFFSETTO:+0000
END:STANDARD
END:VTIMEZONE
BEGIN:VEVENT
UID:198-167
DTSTAMP:20260419T143312Z
SUMMARY:Office Closed - Memorial Day
LOCATION:
ORGANIZER;CN=Sherie Lizzotte:MAILTO:slizzotte@mainecite.org
DTSTART;TZID=Etc/GMT+0;VALUE=DATE:20260525
DTEND;TZID=Etc/GMT+0;VALUE=DATE:20260526
X-ALT-DESC;FMTTYPE=TEXT/HTML:
CATEGORIES:General
URL;VALUE=URI:https://mainecite.org/mc-events/office-closed-memorial-day/
METHOD:PUBLISH
END:VEVENT
END:VCALENDAR