BEGIN:VCALENDAR
VERSION:2.0
PRODID:spatie/icalendar-generator
DESCRIPTION:Events from Maine CITE
X-WR-CALDESC:Events from Maine CITE
REFRESH-INTERVAL;VALUE=DURATION:PT1440M
X-PUBLISHED-TTL:PT1440M
BEGIN:VTIMEZONE
TZID:Etc/GMT+0
BEGIN:STANDARD
DTSTART:20250919T130000Z
TZOFFSETFROM:+0000
TZOFFSETTO:+0000
END:STANDARD
END:VTIMEZONE
BEGIN:VTIMEZONE
TZID:UTC
BEGIN:STANDARD
DTSTART:20250723T212817Z
TZOFFSETFROM:+0000
TZOFFSETTO:+0000
END:STANDARD
END:VTIMEZONE
BEGIN:VEVENT
UID:201-170
DTSTAMP:20260419T212817Z
SUMMARY:Webinar: Creating Accessible Digital Content and Presentations (Par
 t 2)
LOCATION:
ORGANIZER;CN=Sherie Lizzotte:MAILTO:slizzotte@mainecite.org
DTSTART;TZID=Etc/GMT+0:20260616T130000
DTEND;TZID=Etc/GMT+0:20260616T140000
X-ALT-DESC;FMTTYPE=TEXT/HTML:More information and registration coming soon.
CATEGORIES:General
URL;VALUE=URI:https://mainecite.org/mc-events/webinar-creating-accessible-d
 igital-content-and-presentations-part-2-4/
METHOD:PUBLISH
END:VEVENT
END:VCALENDAR