BEGIN:VCALENDAR
VERSION:2.0
PRODID:spatie/icalendar-generator
DESCRIPTION:Events from Maine CITE
X-WR-CALDESC:Events from Maine CITE
REFRESH-INTERVAL;VALUE=DURATION:PT1440M
X-PUBLISHED-TTL:PT1440M
BEGIN:VTIMEZONE
TZID:Etc/GMT+0
BEGIN:STANDARD
DTSTART:20250922T000000Z
TZOFFSETFROM:+0000
TZOFFSETTO:+0000
END:STANDARD
END:VTIMEZONE
BEGIN:VTIMEZONE
TZID:UTC
BEGIN:STANDARD
DTSTART:20250723T230900Z
TZOFFSETFROM:+0000
TZOFFSETTO:+0000
END:STANDARD
END:VTIMEZONE
BEGIN:VEVENT
UID:202-171
DTSTAMP:20260419T230900Z
SUMMARY:Office Closed - Juneteenth
LOCATION:
ORGANIZER;CN=Sherie Lizzotte:MAILTO:slizzotte@mainecite.org
DTSTART;TZID=Etc/GMT+0;VALUE=DATE:20260619
DTEND;TZID=Etc/GMT+0;VALUE=DATE:20260620
X-ALT-DESC;FMTTYPE=TEXT/HTML:
CATEGORIES:General
URL;VALUE=URI:https://mainecite.org/mc-events/office-closed-juneteenth/
METHOD:PUBLISH
END:VEVENT
END:VCALENDAR