BEGIN:VCALENDAR
VERSION:2.0
PRODID:spatie/icalendar-generator
DESCRIPTION:Events from Maine CITE
X-WR-CALDESC:Events from Maine CITE
REFRESH-INTERVAL;VALUE=DURATION:PT1440M
X-PUBLISHED-TTL:PT1440M
BEGIN:VTIMEZONE
TZID:Etc/GMT+0
BEGIN:STANDARD
DTSTART:20250824T083000Z
TZOFFSETFROM:+0000
TZOFFSETTO:+0000
END:STANDARD
END:VTIMEZONE
BEGIN:VTIMEZONE
TZID:UTC
BEGIN:STANDARD
DTSTART:20250728T141436Z
TZOFFSETFROM:+0000
TZOFFSETTO:+0000
END:STANDARD
END:VTIMEZONE
BEGIN:VEVENT
UID:208-176
DTSTAMP:20260424T141436Z
SUMMARY:I Belong Youth Summit
LOCATION:
ORGANIZER;CN=Sherie Lizzotte:MAILTO:slizzotte@mainecite.org
DTSTART;TZID=Etc/GMT+0:20260521T083000
DTEND;TZID=Etc/GMT+0:20260521T123000
X-ALT-DESC;FMTTYPE=TEXT/HTML:
CATEGORIES:General
URL;VALUE=URI:https://mainecite.org/mc-events/i-belong-youth-summit-2/
METHOD:PUBLISH
END:VEVENT
END:VCALENDAR