BEGIN:VCALENDAR
VERSION:2.0
PRODID:spatie/icalendar-generator
DESCRIPTION:Events from Maine CITE
X-WR-CALDESC:Events from Maine CITE
REFRESH-INTERVAL;VALUE=DURATION:PT1440M
X-PUBLISHED-TTL:PT1440M
BEGIN:VTIMEZONE
TZID:Etc/GMT+0
BEGIN:STANDARD
DTSTART:20250824T130000Z
TZOFFSETFROM:+0000
TZOFFSETTO:+0000
END:STANDARD
END:VTIMEZONE
BEGIN:VTIMEZONE
TZID:UTC
BEGIN:STANDARD
DTSTART:20250728T192150Z
TZOFFSETFROM:+0000
TZOFFSETTO:+0000
END:STANDARD
END:VTIMEZONE
BEGIN:VEVENT
UID:209-177
DTSTAMP:20260424T192150Z
SUMMARY:Webinar: Recreation Without Limits: Adaptive Recreation and Equipme
 nt
LOCATION:
ORGANIZER;CN=Sherie Lizzotte:MAILTO:slizzotte@mainecite.org
DTSTART;TZID=Etc/GMT+0:20260521T130000
DTEND;TZID=Etc/GMT+0:20260521T140000
X-ALT-DESC;FMTTYPE=TEXT/HTML:<p>Join this webinar to explore how outdoor ad
 ventures like adaptive sailing\, waterskiing\, rock climbing\, paddling\, 
 and skiing can be made accessible for everyone.</p>\n
CATEGORIES:General
URL;VALUE=URI:https://mainecite.org/mc-events/webinar-recreation-without-li
 mits-adaptive-recreation-and-equipment/
METHOD:PUBLISH
END:VEVENT
END:VCALENDAR